BEGIN:VCALENDAR
PRODID:-//eluceo/ical//2.0/EN
VERSION:2.0
CALSCALE:GREGORIAN
BEGIN:VEVENT
UID:d1e793acef70506df679b8c8cbb304ac
DTSTAMP:20260421T081559Z
SUMMARY:CT ADL Annual Regional Board Meeting
DESCRIPTION:Jewish Federation of Greater New Haven\nCommunity Calendar\nhtt
 ps://jewishnewhaven.org/eventlist/ct-adl-annual-regional-board-meeting-146
 7830805\n\nThere will be a CT ADL annual Regional Board meeting at the Wil
 liam Caspar Graustein Memorial Fund facility in Hamden\, CT.
DTSTART;TZID=America/New_York:20161130T180000
DTEND;TZID=America/New_York:20161130T210000
END:VEVENT
END:VCALENDAR
