BEGIN:VCALENDAR
PRODID:-//eluceo/ical//2.0/EN
VERSION:2.0
CALSCALE:GREGORIAN
BEGIN:VEVENT
UID:358cff8da67a3348ca103818d049002f
DTSTAMP:20260419T131933Z
SUMMARY:Cultural Arts Film Series: "Shoelaces"
DESCRIPTION:Jewish Federation of Greater New Haven\nCommunity Calendar\nhtt
 ps://jewishnewhaven.org/eventlist/cultural-arts-film-series-shoelaces-3885
 54\n\nRegister  in advance.\n\n"Shoelaces" tells the story of a complicate
 d relationship between an aging father and his special-needs son\, whom he
  abandoned while he was still a young boy. Reuben's (60) kidney's are fail
 ing and his son Gadi (35)\, wants to donate one of his own kidney's to hel
 p save his father's life. However\, the transplant committee objects to th
 e procedure claiming that Rueben\, acting as Gadi's sole legal guardian\, 
 does not have the right to authorize such an invasive procedure....
DTSTART;TZID=America/New_York:20220124T000000
DTEND;TZID=America/New_York:20220130T235900
END:VEVENT
END:VCALENDAR
