BEGIN:VCALENDAR
PRODID:-//eluceo/ical//2.0/EN
VERSION:2.0
CALSCALE:GREGORIAN
BEGIN:VEVENT
UID:cf727eec05893d30123a622491619bdb
DTSTAMP:20260421T093215Z
SUMMARY:Cultural Arts Film Series: The Women's Balcony
DESCRIPTION:Jewish Federation of Greater New Haven\nCommunity Calendar\nhtt
 ps://jewishnewhaven.org/eventlist/cultural-arts-film-series-the-womens-bal
 cony-388560\n\nRegister in advance.\n\nA Film by Shlomit Nehama and Emil B
 en-Shimon Israel\, 2016 Language: Hebrew Genre: Comedy\, Drama 96 minutes 
 New York Times & Los Angeles Times CRITICS PICK! Israel's #1 Film of the Y
 ear! ​ An accident during a bar mitzvah celebration leads to a gender ri
 ft in a devout Orthodox community in Jerusalem\, in this rousing\, good-he
 arted tale about women speaking truth to patriarchal power. When the women
 ’s balcony in an Orthodox synagogue collapses\, leaving the rabbi’s w.
 ..
DTSTART;TZID=America/New_York:20220221T000000
DTEND;TZID=America/New_York:20220227T235900
END:VEVENT
END:VCALENDAR
