BEGIN:VCALENDAR
PRODID:-//eluceo/ical//2.0/EN
VERSION:2.0
CALSCALE:GREGORIAN
BEGIN:VEVENT
UID:b7846d7ebebb92b1bc51304cb167f7ef
DTSTAMP:20260420T130719Z
SUMMARY:Eicha at BEKI
DESCRIPTION:Jewish Federation of Greater New Haven\nCommunity Calendar\nhtt
 ps://jewishnewhaven.org/eventlist/eicha-at-beki-2024-rev\n\nThis year\, we
 ’ll observe Tisha Be-Av by gathering at BEKI at 8 pm Monday night Aug. 1
 2. We’ll read Eichah\, sing some sad songs\, and also have a chance to 
 reflect on hopelessness. \n\nThe next morning\, we’ll gather at 7:30 am 
 for shacharit and Eichah again\, and then minchah (with tallit\, tefillin\
 , and Torah reading) at 5:45 pm. 
DTSTART;TZID=America/New_York:20240812T200000
DTEND;TZID=America/New_York:20240812T210000
END:VEVENT
END:VCALENDAR
