BEGIN:VCALENDAR
PRODID:-//eluceo/ical//2.0/EN
VERSION:2.0
CALSCALE:GREGORIAN
BEGIN:VEVENT
UID:9acfbcaf06ce74f0d71afb0a0caf95c9
DTSTAMP:20260421T135857Z
SUMMARY:Elm City Kallah
DESCRIPTION:Jewish Federation of Greater New Haven\nCommunity Calendar\nhtt
 ps://jewishnewhaven.org/eventlist/elm-city-kallah-1546534437\n\nFourth Ann
 ual Elm City Kallah\nRabbi Tamar Elad-Applebaum\nApril 5-7\, 2019\n\nWestv
 ille Synagogue\, Friday evening \, April 5\nBEKI\, Saturday morning\, Apri
 l 6\nB’nai Jacob\, Sunday morning\, April 7
DTSTART;TZID=America/New_York:20190405T180000
DTEND;TZID=America/New_York:20190407T120000
END:VEVENT
END:VCALENDAR
