BEGIN:VCALENDAR
PRODID:-//eluceo/ical//2.0/EN
VERSION:2.0
CALSCALE:GREGORIAN
BEGIN:VEVENT
UID:d4fd510a08b03c820053d80bf970b938
DTSTAMP:20260421T165206Z
SUMMARY:Elm City Kallah with Rabbi Ethan Tucker
DESCRIPTION:Jewish Federation of Greater New Haven\nCommunity Calendar\nhtt
 ps://jewishnewhaven.org/eventlist/elm-city-kallah-with-rabbi-ethan-tucker-
 2021rev2\n\nRabbi Ethan Tucker\, who was selected by The Jewish Week in 20
 09 as one of thirty-six young Jewish innovators\, activists and visionarie
 s in New York\, “36 Under 36\,” is this year's Elm City Kallah scholar
  in residence. Tucker\, a co-founder of Kehilat Hadar\, an independent pra
 yer community in New York’s Upper West Side\, now is President and Rosh 
 Yeshiva at an observant\, egalitarian yeshiva\, also called Hadar. Tucker 
 is known for his ability to transcend the affiliation boundaries of Judais
 ...
DTSTART;TZID=America/New_York:20211030T130000
DTEND;TZID=America/New_York:20211030T143000
END:VEVENT
END:VCALENDAR
