BEGIN:VCALENDAR
PRODID:-//eluceo/ical//2.0/EN
VERSION:2.0
CALSCALE:GREGORIAN
BEGIN:VEVENT
UID:31d344d83d7fd26e20bbf2fb0da5c35e
DTSTAMP:20260420T114617Z
SUMMARY:Erev Purim at BEKI
DESCRIPTION:Jewish Federation of Greater New Haven\nCommunity Calendar\nhtt
 ps://jewishnewhaven.org/eventlist/erev-purim-at-beki-2022\n\nWe will read 
 Megillat Esther in-person in the Sanctuary/Social Hall (or on Zoom). Minc
 hah will start at 6:30 pm\, followed by Maariv and then Megillah reading 7
  to 8:30 pm. Adults and children are encouraged to wear costumes.\n\nEntra
 nce to Zoom services is moderated. If you want to join\, contact the offic
 e or email bekitefilla@gmail.com.
DTSTART;TZID=America/New_York:20220316T183000
DTEND;TZID=America/New_York:20220316T203000
END:VEVENT
END:VCALENDAR
