BEGIN:VCALENDAR
PRODID:-//eluceo/ical//2.0/EN
VERSION:2.0
CALSCALE:GREGORIAN
BEGIN:VEVENT
UID:a9b3923cfc9bb5d0c040d471df14ca55
DTSTAMP:20260419T133731Z
SUMMARY:Ezra Academy Board Meeting
DESCRIPTION:Jewish Federation of Greater New Haven\nCommunity Calendar\nhtt
 ps://jewishnewhaven.org/eventlist/ezra-academy-board-meeting-1499913753\n\
 nEzra Academy Board Meeting
DTSTART;TZID=America/New_York:20180207T193000
DTEND;TZID=America/New_York:20180207T210000
END:VEVENT
END:VCALENDAR
