BEGIN:VCALENDAR
PRODID:-//eluceo/ical//2.0/EN
VERSION:2.0
CALSCALE:GREGORIAN
BEGIN:VEVENT
UID:351d100c30561b91fa24ed1078d1eb1d
DTSTAMP:20260419T124719Z
SUMMARY:Ezra Academy Board of Directors Meeting
DESCRIPTION:Jewish Federation of Greater New Haven\nCommunity Calendar\nhtt
 ps://jewishnewhaven.org/eventlist/ezra-academy-board-of-directors-meeting-
 1472839193\n\nEzra Academy Board of Directors meeting
DTSTART;TZID=America/New_York:20161005T193000
DTEND;TZID=America/New_York:20161005T210000
END:VEVENT
END:VCALENDAR
