BEGIN:VCALENDAR
PRODID:-//eluceo/ical//2.0/EN
VERSION:2.0
CALSCALE:GREGORIAN
BEGIN:VEVENT
UID:6893627a94f9844632c4d5d4c99637eb
DTSTAMP:20260420T122335Z
SUMMARY:Ezra Academy Board of Directors Meeting
DESCRIPTION:Jewish Federation of Greater New Haven\nCommunity Calendar\nhtt
 ps://jewishnewhaven.org/eventlist/ezra-academy-board-of-directors-meeting-
 1755623066\n\nEzra Academy Board of Directors Meeting
DTSTART;TZID=America/New_York:20251022T193000
DTEND;TZID=America/New_York:20251022T213000
END:VEVENT
END:VCALENDAR
