BEGIN:VCALENDAR
PRODID:-//eluceo/ical//2.0/EN
VERSION:2.0
CALSCALE:GREGORIAN
BEGIN:VEVENT
UID:07c36c775ffb9281210fcf17ca9a9afa
DTSTAMP:20260421T165156Z
SUMMARY:FAMILIES INVITED TO CELEBRATE TOT PROGRAM AT CMI
DESCRIPTION:Jewish Federation of Greater New Haven\nCommunity Calendar\nhtt
 ps://jewishnewhaven.org/eventlist/families-invited-to-celebrate-tot-progra
 m-at-cmi-1516302045\n\nCongregation Mishkan Israel invites families with c
 hildren 6 years and under to Tot Passover Program on Sunday\, March 18 at 
 9:30 a.m.  The celebrations of holidays are a wonderful opportunity for fa
 milies with preschool aged children to get to know each other and enjoy an
  evening of blessings\, stories\, food and fun.   \nCongregation Mishkan I
 srael is a reform synagogue located at 785 Ridge Road in Hamden. For more 
 information\, contact the synagogue office at 203-288-3877.
DTSTART;TZID=America/New_York:20180318T093000
DTEND;TZID=America/New_York:20180318T120000
END:VEVENT
END:VCALENDAR
