BEGIN:VCALENDAR
PRODID:-//eluceo/ical//2.0/EN
VERSION:2.0
CALSCALE:GREGORIAN
BEGIN:VEVENT
UID:3b11830e96b17c59c2a429e04cb46d2d
DTSTAMP:20260421T075541Z
SUMMARY:Family Fun Day: Pumpkin Patch and Paint 
DESCRIPTION:Jewish Federation of Greater New Haven\nCommunity Calendar\nhtt
 ps://jewishnewhaven.org/eventlist/family-fun-daypumpkin-patch-and-paint-36
 4963\n\nRegister in advance. Bring your family\, bring your friends 
 to JCC family fun day on October 24\, 2021. Find a pumpkin to
  paint and take home\, but don’t get tagged by the “Scarecr
 ow” hidden in the JCC camp area. If the “scarecrow” catche
 s you you’ll have to earn back your pumpkin by winning a min
 i-game or answering a trivia question correctly. \n\n \n\nEvery f
 amily has the opportunity of finding one big pumpkin and...
DTSTART;TZID=America/New_York:20211024T121500
DTEND;TZID=America/New_York:20211024T133000
END:VEVENT
END:VCALENDAR
