BEGIN:VCALENDAR
PRODID:-//eluceo/ical//2.0/EN
VERSION:2.0
CALSCALE:GREGORIAN
BEGIN:VEVENT
UID:7e6c163a21fe81134d483841a3f3b484
DTSTAMP:20260421T120949Z
SUMMARY:Latkes and Light: Festive Family Cooking for Hanukkah
DESCRIPTION:Jewish Federation of Greater New Haven\nCommunity Calendar\nhtt
 ps://jewishnewhaven.org/eventlist/family-hanukkah-367447\n\nRegister in ad
 vance. Please join us for a community-wide Hanukkah event. Gather your fam
 ily in the kitchen and make latkes with Chef Benny of Ladle and Loaf\, New
  Haven’s newest kosher eatery. Rabbi James\, Director of Camp Laurelwood
 \, in Madison\, will share a Hanukkah song and a local family will lead us
  all in lighting the 4th Hanukkah candle. Register early to get festive l
 atke ingredients and recipes! \n\nBrought to you by PJ Library and the Je
 wish Federation of Greater New Haven\, Camp ...
DTSTART;TZID=America/New_York:20201213T163000
DTEND;TZID=America/New_York:20201213T173000
END:VEVENT
END:VCALENDAR
