BEGIN:VCALENDAR
PRODID:-//eluceo/ical//2.0/EN
VERSION:2.0
CALSCALE:GREGORIAN
BEGIN:VEVENT
UID:0f64f05bf7ab3ce92c56055d7c7f46b2
DTSTAMP:20260419T133619Z
SUMMARY:Federation Board of Director's Meeting
DESCRIPTION:Jewish Federation of Greater New Haven\nCommunity Calendar\nhtt
 ps://jewishnewhaven.org/eventlist/federation-board-of-directors-meeting-se
 p2\n\nFederation Board of Director's Meeting
DTSTART;TZID=America/New_York:20150902T070000
DTEND;TZID=America/New_York:20150902T203000
END:VEVENT
END:VCALENDAR
