BEGIN:VCALENDAR
PRODID:-//eluceo/ical//2.0/EN
VERSION:2.0
CALSCALE:GREGORIAN
BEGIN:VEVENT
UID:903c551c653f5c4e4ed3cbeea7ab1b0c
DTSTAMP:20260419T121939Z
SUMMARY:FIDF Hipstory with Amit Shoshani
DESCRIPTION:Jewish Federation of Greater New Haven\nCommunity Calendar\nhtt
 ps://jewishnewhaven.org/eventlist/fidf-hipstory-with-amit-shoshani-1613502
 536\n\nJoin FIDF for an exclusive interview with Israeli artist and creato
 r of Hipstory\, Amit Shimoni\, as he chronicles his journey from IDF Intel
 ligence Corps soldier to internationally recognized artist bringing global
  influencers to the forefront.
DTSTART;TZID=America/New_York:20210314T100000
DTEND;TZID=America/New_York:20210314T110000
END:VEVENT
END:VCALENDAR
