BEGIN:VCALENDAR
PRODID:-//eluceo/ical//2.0/EN
VERSION:2.0
CALSCALE:GREGORIAN
BEGIN:VEVENT
UID:444f37d87b3553ed82f43f0357bb421b
DTSTAMP:20260419T190816Z
SUMMARY:"Justice\, Justice\, Shall You Pursue": A Fireside Chat with Shawn 
 Wooden
DESCRIPTION:Jewish Federation of Greater New Haven\nCommunity Calendar\nhtt
 ps://jewishnewhaven.org/eventlist/fireside-chat-with-shawn-wooden-354903\n
 \nRegister in advance here.\n\nJustice\, Justice\, Shall You Pursue: A "fi
 reside chat" on addressing racial inequality with State Treasurer Shawn Wo
 oden\, Steve Ginsburg of ADL Connecticut\, and David Waren of Jewish Feder
 ation of Greater Hartford\n\nFor security reasons\, we ask that you log in
  a few minutes early. You will be placed in a Zoom waiting room until the 
 call begins.\n\nPresented by ADL Connecticut and Jewish Federation of Grea
 ter Hartford.\n\nCo-Sponsored by Federation for Jewish Phila...
DTSTART;TZID=America/New_York:20200610T190000
DTEND;TZID=America/New_York:20200610T200000
END:VEVENT
END:VCALENDAR
