BEGIN:VCALENDAR
PRODID:-//eluceo/ical//2.0/EN
VERSION:2.0
CALSCALE:GREGORIAN
BEGIN:VEVENT
UID:974c8367516dd36006b7d6e73f76069c
DTSTAMP:20260421T194734Z
SUMMARY:HHNE Board Meeting
DESCRIPTION:Jewish Federation of Greater New Haven\nCommunity Calendar\nhtt
 ps://jewishnewhaven.org/eventlist/hhne-board-meeting-0921\n\nHHNE Board Me
 eting.
DTSTART;TZID=America/New_York:20160921T190000
DTEND;TZID=America/New_York:20160921T210000
END:VEVENT
END:VCALENDAR
