BEGIN:VCALENDAR
PRODID:-//eluceo/ical//2.0/EN
VERSION:2.0
CALSCALE:GREGORIAN
BEGIN:VEVENT
UID:2a7426207ed47127d3861802ff8ac6ea
DTSTAMP:20260421T105257Z
SUMMARY:High Holiday Story & Song at Mitchell Library
DESCRIPTION:Jewish Federation of Greater New Haven\nCommunity Calendar\nhtt
 ps://jewishnewhaven.org/eventlist/high-holiday-story-song-at-mitchell-libr
 ary\n\nJoin PJ Library for a celebration of the Jewish New Year!\n\nDip ap
 ples and honey\, hear stories\, and sing songs for holiday cheer.\n\nWedne
 sday\, Sept 5 at 10 AM – Guilford Free Library\, 67 Park St\, Guilford\n
 Thursday\, Sept 6 at 4 PM - Mitchell Library\, 37 Harrison Street\, New Ha
 ven\nSaturday\, Sept 15 at 11 AM – Wallingford Library\, 200 N Main St\,
  Wallingford\n\nRecommended for children ages 1-5 and their grown-ups.\n\n
 RSVP to Stacey at pjlibrary@jewishnewhaven.org
DTSTART;TZID=America/New_York:20180906T160000
DTEND;TZID=America/New_York:20180906T170000
END:VEVENT
END:VCALENDAR
