BEGIN:VCALENDAR
PRODID:-//eluceo/ical//2.0/EN
VERSION:2.0
CALSCALE:GREGORIAN
BEGIN:VEVENT
UID:742e69c68c7c6c22e824ee3589019e9f
DTSTAMP:20260421T121912Z
SUMMARY:High Holy Day Services at Congregation Mishkan Israel
DESCRIPTION:Jewish Federation of Greater New Haven\nCommunity Calendar\nhtt
 ps://jewishnewhaven.org/eventlist/high-holy-day-services-at-congregation-m
 ishkan-israel\n\nThe Congregation Mishkan Israel holds family services eac
 h year on the first day of Rosh Hashanah and on Yom Kippur.\n\nThe Rosh Ha
 shanah family service will be at 2:00 p.m. on Thursday\, September 25\; th
 e Yom Kippur service will be at 2:00 p.m. on Saturday\, October 4. Both se
 rvices are free and open to the community.\n\n\nCongregation Mishkan Israe
 l is a reform synagogue located at 785 Ridge Road in Hamden. It is the 14t
 h oldest congregation in the United States\, and the oldest continuously o
 pe...
DTSTART;TZID=America/New_York:20140925T140000
DTEND;TZID=America/New_York:20140925T150000
END:VEVENT
END:VCALENDAR
