BEGIN:VCALENDAR
PRODID:-//eluceo/ical//2.0/EN
VERSION:2.0
CALSCALE:GREGORIAN
BEGIN:VEVENT
UID:a8b555b0d33c5427abc1950f936460f3
DTSTAMP:20260421T105419Z
SUMMARY:INTERFAITH SERVICE FESTIVAL
DESCRIPTION:Jewish Federation of Greater New Haven\nCommunity Calendar\nhtt
 ps://jewishnewhaven.org/eventlist/interfaith-service-festival-1721418172\n
 \nCongregation B'nai Jacob is sponsoring this meaningful event coordinated
  by Iwagepeace\, the Interfaith Service Festival on the New Haven Green. N
 ow more than ever is a time for reflection and connection. Engage in a day
  of volunteering\, discussion groups\, and sharing circles to connect with
  neighbors and support those in need.
DTSTART;TZID=America/New_York:20240804T090000
DTEND;TZID=America/New_York:20240804T160000
END:VEVENT
END:VCALENDAR
