BEGIN:VCALENDAR
PRODID:-//eluceo/ical//2.0/EN
VERSION:2.0
CALSCALE:GREGORIAN
BEGIN:VEVENT
UID:9f1b81b012bb22860de121ec5f59e067
DTSTAMP:20260421T105454Z
SUMMARY:International Festival
DESCRIPTION:Jewish Federation of Greater New Haven\nCommunity Calendar\nhtt
 ps://jewishnewhaven.org/eventlist/international-festival-1496763417-233387
 \n\nJoin us for our second annual International Festival in celebration of
  the diversity of our region through performances\, crafts\, food\, games\
 , and more! \n\nFREE and open to the community!\n\nChildren and families e
 vent - all ages welcome.
DTSTART;TZID=America/New_York:20171029T110000
DTEND;TZID=America/New_York:20171029T140000
END:VEVENT
END:VCALENDAR
