BEGIN:VCALENDAR
PRODID:-//eluceo/ical//2.0/EN
VERSION:2.0
CALSCALE:GREGORIAN
BEGIN:VEVENT
UID:7da5f10ff61c35b15ba4148abadb1a90
DTSTAMP:20260419T131913Z
SUMMARY:International Festival for Families at the JCC
DESCRIPTION:Jewish Federation of Greater New Haven\nCommunity Calendar\nhtt
 ps://jewishnewhaven.org/eventlist/international-festival-for-families-1106
 -202546\n\nCelebrate international cultures with local groups! This family
  fun event will bring you music\, performances\, treats\, and crafts that 
 will leave you wanting to travel the world. Visit our tables representing 
 different cultures\, participate in dancing\, musical instruments and song
 ! \n\nThis event is FREE and open to the community!\n\nJUST ADDED! Dance 
 & Sing with Leng. Learn Israeli and international folk dances. Check back 
 as more details get released!\n 
DTSTART;TZID=America/New_York:20191103T100000
DTEND;TZID=America/New_York:20191103T130000
END:VEVENT
END:VCALENDAR
