BEGIN:VCALENDAR
PRODID:-//eluceo/ical//2.0/EN
VERSION:2.0
CALSCALE:GREGORIAN
BEGIN:VEVENT
UID:127e8a3799ba4b6ab7b03afe31a8abeb
DTSTAMP:20260421T123643Z
SUMMARY:JCC Board of Directors Meeting
DESCRIPTION:Jewish Federation of Greater New Haven\nCommunity Calendar\nhtt
 ps://jewishnewhaven.org/eventlist/jcc-board-of-directors-meeting-156372687
 3-318560\n\nMonthly Meeting
DTSTART;TZID=America/New_York:20200217T190000
DTEND;TZID=America/New_York:20200217T210000
END:VEVENT
END:VCALENDAR
