BEGIN:VCALENDAR
PRODID:-//eluceo/ical//2.0/EN
VERSION:2.0
CALSCALE:GREGORIAN
BEGIN:VEVENT
UID:2758baccc0d78f8d0f66b8f2430aa654
DTSTAMP:20260421T105226Z
SUMMARY:JCC Day Camps
DESCRIPTION:Jewish Federation of Greater New Haven\nCommunity Calendar\nhtt
 ps://jewishnewhaven.org/eventlist/jcc-day-camps-begins-1429565066\n\nJCC D
 ay Camps- Where there is something for every child! Come join the fun this
  summer. For children entering kindergarten through 9th grade. Swimming\, 
 Arts & Crafts\, Music\, Sports\, Archery and much more. For more informati
 on call Debra Kirschner at 203-387-2522 Ext. 253 or email summercamp@jccnh
 .org.\n\nCost varies.
DTSTART;TZID=America/New_York:20150807T090000
DTEND;TZID=America/New_York:20150807T160000
END:VEVENT
END:VCALENDAR
