BEGIN:VCALENDAR
PRODID:-//eluceo/ical//2.0/EN
VERSION:2.0
CALSCALE:GREGORIAN
BEGIN:VEVENT
UID:f6240fe5bf9f5eacbf6f11081162ecdf
DTSTAMP:20260421T195002Z
SUMMARY:Jewish Author Series: Saul Austerlitz\, "Generation FRIENDS"
DESCRIPTION:Jewish Federation of Greater New Haven\nCommunity Calendar\nhtt
 ps://jewishnewhaven.org/eventlist/jewish-author-series-saul-austerlitz-gen
 eration-friends-317373\n\nPlease join the JCC of Greater New Haven in welc
 oming author Saul Austerlitz for a discussion of his new book\, "Generati
 on FRIENDS: An Inside Look at the Show That Defined a Tele­vi­sion Era"\
 , followed by a book signing.\n\nBook sales by R.J. Julia Booksellers.\n\n
 $10 for JCC Members/$1 for Community Members\n\n 
DTSTART;TZID=America/New_York:20190918T190000
DTEND;TZID=America/New_York:20190918T210000
END:VEVENT
END:VCALENDAR
