BEGIN:VCALENDAR
PRODID:-//eluceo/ical//2.0/EN
VERSION:2.0
CALSCALE:GREGORIAN
BEGIN:VEVENT
UID:9153a11eb49de51eb82d2115fba64ad8
DTSTAMP:20260420T034225Z
SUMMARY:Jewish Federation\, Foundation and JCC Annual Meeting
DESCRIPTION:Jewish Federation of Greater New Haven\nCommunity Calendar\nhtt
 ps://jewishnewhaven.org/eventlist/jewish-federation-annual-meeting\n\nJoin
  us as we celebrate our impact\, thank our phenomenal donors and community
  leaders\, and recognize our exceptional staff\, live at the Vine Family A
 uditorium at the Beckerman Lender Jewish Community Building.\n\nOne of the
  highlights of this year's program will be a special send-off to outgoing
  CEO Judy Alperin. We hope you all will join us\, whether in person or via
  Zoom\, to wish Judy a hearty kol hakavod (good job) on seven years of s
 ervice to our community and b'hatzlechah (good luck)...
DTSTART;TZID=America/New_York:20220922T190000
DTEND;TZID=America/New_York:20220922T210000
END:VEVENT
END:VCALENDAR
