BEGIN:VCALENDAR
PRODID:-//eluceo/ical//2.0/EN
VERSION:2.0
CALSCALE:GREGORIAN
BEGIN:VEVENT
UID:1cb6bbad5ff6ce115c657c204a5b0b57
DTSTAMP:20260420T101440Z
SUMMARY:Jewish Foundation Board Meeting - In Person
DESCRIPTION:Jewish Federation of Greater New Haven\nCommunity Calendar\nhtt
 ps://jewishnewhaven.org/eventlist/jewish-foundation-board-meeting-in-perso
 n_Oct_2025\n\nJewish Foundation Board Meeting - In Person
DTSTART;TZID=America/New_York:20251022T180000
DTEND;TZID=America/New_York:20251022T200000
END:VEVENT
END:VCALENDAR
