BEGIN:VCALENDAR
PRODID:-//eluceo/ical//2.0/EN
VERSION:2.0
CALSCALE:GREGORIAN
BEGIN:VEVENT
UID:aa2b2340a48dd6da2a43b78d79663f84
DTSTAMP:20260421T105429Z
SUMMARY:JFGNH Planning and Allocations Meeting
DESCRIPTION:Jewish Federation of Greater New Haven\nCommunity Calendar\nhtt
 ps://jewishnewhaven.org/eventlist/jfgnh-planning-and-allocations-meeting_1
 -22-24\n\nJFGNH Planning and Allocations Meeting
DTSTART;TZID=America/New_York:20240122T180000
DTEND;TZID=America/New_York:20240122T200000
END:VEVENT
END:VCALENDAR
