BEGIN:VCALENDAR
PRODID:-//eluceo/ical//2.0/EN
VERSION:2.0
CALSCALE:GREGORIAN
BEGIN:VEVENT
UID:f380ee312b379b65f00962727915a65a
DTSTAMP:20260421T194952Z
SUMMARY:JFS Education: Psalms with Sydney Perry
DESCRIPTION:Jewish Federation of Greater New Haven\nCommunity Calendar\nhtt
 ps://jewishnewhaven.org/eventlist/jfs-education-psalms-with-sydney-perry-1
 517508245\n\nJFS Education with Sydney Perry at the Federation Shoreline O
 ffice in Guilford. \n10:00 am: Psalms  
DTSTART;TZID=America/New_York:20180322T100000
DTEND;TZID=America/New_York:20180322T120000
END:VEVENT
END:VCALENDAR
