BEGIN:VCALENDAR
PRODID:-//eluceo/ical//2.0/EN
VERSION:2.0
CALSCALE:GREGORIAN
BEGIN:VEVENT
UID:f3cc1cb4e831431878f810aea3231bbe
DTSTAMP:20260421T094313Z
SUMMARY:JFS's Shalom Group Bowling Night
DESCRIPTION:Jewish Federation of Greater New Haven\nCommunity Calendar\nhtt
 ps://jewishnewhaven.org/eventlist/jfss-shalom-group-bowling-night-15124453
 68\n\nCome join us for a special Bowling Party for the Shalom Group\, for 
 developmentally disabled Jewish adults. The cost of this event is $6 per p
 erson which includes shoe rental\, bowling time\, snacks and drinks.
DTSTART;TZID=America/New_York:20180111T161500
DTEND;TZID=America/New_York:20180111T181500
END:VEVENT
END:VCALENDAR
