BEGIN:VCALENDAR
PRODID:-//eluceo/ical//2.0/EN
VERSION:2.0
CALSCALE:GREGORIAN
BEGIN:VEVENT
UID:ef571841e45e9aab821ef90a9aa03eec
DTSTAMP:20260419T145340Z
SUMMARY:JHSGNH Annual Awards Celebration
DESCRIPTION:Jewish Federation of Greater New Haven\nCommunity Calendar\nhtt
 ps://jewishnewhaven.org/eventlist/jhsgnh-annual-awards-celebration\n\nJewi
 sh Historical Society GNH \n\nAnnual Awards Celebration\n\nSunday\, Octob
 er 27 \n\n11:00am - 1:00pm\n\nJCC Vine Family Auditorium
DTSTART;TZID=America/New_York:20241027T110000
DTEND;TZID=America/New_York:20241027T130000
END:VEVENT
END:VCALENDAR
