BEGIN:VCALENDAR
PRODID:-//eluceo/ical//2.0/EN
VERSION:2.0
CALSCALE:GREGORIAN
BEGIN:VEVENT
UID:8dd6d343a2b215de25c0e72801ea5c13
DTSTAMP:20260421T182322Z
SUMMARY:Journey Through Grief Support Group
DESCRIPTION:Jewish Federation of Greater New Haven\nCommunity Calendar\nhtt
 ps://jewishnewhaven.org/eventlist/journey-through-grief-support-group-1612
 886874\n\nIf you are an older adult who is grieving the loss of a spouse o
 r significant other and would like support and guidance at this time the A
 ging Adult Program at Jewish Family Service would like to help. Our virtua
 l support group will meet on Zoom the second and fourth Thursday of every 
 month at 11:30 a.m. Come talk about what you are experiencing in a support
 ive and safe environment. If interested\, please reach out to Andrea Josep
 h\, LCSW at ajoseph@jfsnh.org or 860-800-9494. A link will be sen...
DTSTART;TZID=America/New_York:20210211T113000
DTEND;TZID=America/New_York:20210211T123000
END:VEVENT
END:VCALENDAR
