BEGIN:VCALENDAR
PRODID:-//eluceo/ical//2.0/EN
VERSION:2.0
CALSCALE:GREGORIAN
BEGIN:VEVENT
UID:e775fa9c4c1c522afad168ea8527d88f
DTSTAMP:20260419T130210Z
SUMMARY:Joy Unleashed
DESCRIPTION:Jewish Federation of Greater New Haven\nCommunity Calendar\nhtt
 ps://jewishnewhaven.org/eventlist/joy-unleashed\n\nA night of laughter\, j
 oy and endless possibilities with Esther Rachel Russell\, MA\, motivationa
 l speaker\, performer and laughter therapist. Sips & Sweets at a private h
 ome in Woodbridge. Minimum $180 gift to the 2014 Annual Federation Campaig
 n.
DTSTART;TZID=America/New_York:20140625T190000
DTEND;TZID=America/New_York:20140625T210000
END:VEVENT
END:VCALENDAR
