BEGIN:VCALENDAR
PRODID:-//eluceo/ical//2.0/EN
VERSION:2.0
CALSCALE:GREGORIAN
BEGIN:VEVENT
UID:faebce2d2602a1efad756878e1aefd9c
DTSTAMP:20260420T091302Z
SUMMARY:Live from the Cupboard: Music & Storytelling at Congregation B'nai 
 Jacob
DESCRIPTION:Jewish Federation of Greater New Haven\nCommunity Calendar\nhtt
 ps://jewishnewhaven.org/eventlist/live-from-the-cupboard-music--storytelli
 ng-at-congregation-bnai-jacob-1764603153\n\nJoin us for a warm and lively 
 evening of storytelling\, music\, and community at our Live from the Cupbo
 ard coffee house\, featuring captivating stories from Rabbi Eric Woodward\
 , Rabbi Rona Shapiro\, jokes by Joel Sachs and soulful melodies from talen
 ted musicians Rachel Haymer\, Richard Katz\, Cantor Kochava Munro\, and Da
 vid Franklin. This is a night you won’t want to miss.Enjoy sweets\, scot
 ch\, and great company!
DTSTART;TZID=America/New_York:20251206T190000
DTEND;TZID=America/New_York:20251206T210000
END:VEVENT
END:VCALENDAR
