BEGIN:VCALENDAR
PRODID:-//eluceo/ical//2.0/EN
VERSION:2.0
CALSCALE:GREGORIAN
BEGIN:VEVENT
UID:c8508e663b4ad733de62762201629212
DTSTAMP:20260421T194942Z
SUMMARY:Maimonides Society Sukkot Evening
DESCRIPTION:Jewish Federation of Greater New Haven\nCommunity Calendar\nhtt
 ps://jewishnewhaven.org/eventlist/maimonides-society-sukkot-evening-147464
 2199\n\nFor more information\, please contact Josh Squire at jsquire@jewis
 hnewhaven.org
DTSTART;TZID=America/New_York:20161020T180000
DTEND;TZID=America/New_York:20161020T193000
END:VEVENT
END:VCALENDAR
