BEGIN:VCALENDAR
PRODID:-//eluceo/ical//2.0/EN
VERSION:2.0
CALSCALE:GREGORIAN
BEGIN:VEVENT
UID:45c8e6e146ce890ca16001baf9a309b2
DTSTAMP:20260421T093245Z
SUMMARY:MISHKAN ISRAEL INVITES COMMUNITY TO ITS FIRST PRIDE SHABBAT
DESCRIPTION:Jewish Federation of Greater New Haven\nCommunity Calendar\nhtt
 ps://jewishnewhaven.org/eventlist/mishkan-israel-invites-community-to-its-
 first-pride-shabbat-1516986236\n\nThe community is invited to attend a Pri
 de Shabbat service at the Congregation Mishkan Israel on Friday\, April 20
  at 6:00 p.m. Oneg will precede services at 5:30 p.m.\nThis Pride Shabbat 
 will bring an LGBTQ perspective to the Friday evening Shabbat ritual and w
 ill celebrate the LGBTQ community.\nCongregation Mishkan Israel is a progr
 essive Reform congregation\, dedicated to creating a comfortable and welco
 ming atmosphere to all\, regardless of religious upbringing or family stru
 cture. In...
DTSTART;TZID=America/New_York:20180420T180000
DTEND;TZID=America/New_York:20180420T191500
END:VEVENT
END:VCALENDAR
