BEGIN:VCALENDAR
PRODID:-//eluceo/ical//2.0/EN
VERSION:2.0
CALSCALE:GREGORIAN
BEGIN:VEVENT
UID:de70ef83eddf242acfafe0b3ec8a5cda
DTSTAMP:20260419T133513Z
SUMMARY:Mission to Poland & Israel Parlor Meeting
DESCRIPTION:Jewish Federation of Greater New Haven\nCommunity Calendar\nhtt
 ps://jewishnewhaven.org/eventlist/mission-to-poland-israel\n\nLearn more a
 bout the Jewish Federation mission to Poland & Israel
DTSTART;TZID=America/New_York:20180130T190000
DTEND;TZID=America/New_York:20180130T200000
END:VEVENT
END:VCALENDAR
