BEGIN:VCALENDAR
PRODID:-//eluceo/ical//2.0/EN
VERSION:2.0
CALSCALE:GREGORIAN
BEGIN:VEVENT
UID:ee8c1d9998b5b19afc64a476086820f9
DTSTAMP:20260421T093235Z
SUMMARY:Music & More with Caravan of Thieves at CBSRZ
DESCRIPTION:Jewish Federation of Greater New Haven\nCommunity Calendar\nhtt
 ps://jewishnewhaven.org/eventlist/music--more-with-caravan-of-thieves-at-c
 bsrz-1454004434\n\nMusic & More continues at Congregation Beth Shalom Rodf
 e Zedek\, as Fuzz and Carrie Sangiovanni bring their unique blend of gypsy
  swing and popular music that hearkens back to the swing era\, when music 
 and entertainment reached creative heights.\n\nTheir live performance cove
 rs a wide dynamic range and appeal with each show flowing seamlessly from 
 intimate acoustic duets\, to entertaining and exciting junk percussion jam
 s\, to big audience stomp\, clap and sing alongs\, all the while maintaini
 ng t...
DTSTART;TZID=America/New_York:20160228T170000
DTEND;TZID=America/New_York:20160228T190000
END:VEVENT
END:VCALENDAR
