BEGIN:VCALENDAR
PRODID:-//eluceo/ical//2.0/EN
VERSION:2.0
CALSCALE:GREGORIAN
BEGIN:VEVENT
UID:21897476c90f3c3d8cddf84992107e00
DTSTAMP:20260419T121406Z
SUMMARY:Musical IQ Hanukkah Drumming Program
DESCRIPTION:Jewish Federation of Greater New Haven\nCommunity Calendar\nhtt
 ps://jewishnewhaven.org/eventlist/musical-iq-hanukkah-drumming-program\n\n
 MUSICAL IQ HANUKKAH DRUMMING PROGRAM\nTemple Beth Sholom\n1809 Whitney Ave
 .\, Hamden | 10 a.m.\nFREE A program for children ages 4-10. RSVP to Beth 
 Messina at 1809HebrewSchool@gmail.com
DTSTART;TZID=America/New_York:20191215T100000
DTEND;TZID=America/New_York:20191215T120000
END:VEVENT
END:VCALENDAR
