BEGIN:VCALENDAR
PRODID:-//eluceo/ical//2.0/EN
VERSION:2.0
CALSCALE:GREGORIAN
BEGIN:VEVENT
UID:35eaa948693fad01b96a0c5633aa192f
DTSTAMP:20260421T181233Z
SUMMARY:Open Chat with Rabbi Tilsen
DESCRIPTION:Jewish Federation of Greater New Haven\nCommunity Calendar\nhtt
 ps://jewishnewhaven.org/eventlist/open-chat-with-rabbi-tilsen\n\nOpen chat
  via Zoom with BEKI's Rabbi Jon-Jay Tilsen. For the link\, email Rabbi Til
 sen: jjtilsen@beki.org
DTSTART;TZID=America/New_York:20200427T100000
DTEND;TZID=America/New_York:20200427T110000
END:VEVENT
END:VCALENDAR
