BEGIN:VCALENDAR
PRODID:-//eluceo/ical//2.0/EN
VERSION:2.0
CALSCALE:GREGORIAN
BEGIN:VEVENT
UID:d09199a36ebe4119789d45f30b4203ec
DTSTAMP:20260421T105155Z
SUMMARY:Pesah Prep Workshop with Rabbi Tilsen
DESCRIPTION:Jewish Federation of Greater New Haven\nCommunity Calendar\nhtt
 ps://jewishnewhaven.org/eventlist/pesah-prep-workshop-with-rabbi-tilsen\n\
 nSpeak with Rabbi Jon-Jay Tilsen of BEKI on-line via Zoom meeting. Tips\,
  FAQs\, Q&A about Passover preparations. For the Zoom invitation\, email
  jjtilsen@beki.org or call 203.389.2108 x110.
DTSTART;TZID=America/New_York:20200401T183000
DTEND;TZID=America/New_York:20200401T191500
END:VEVENT
END:VCALENDAR
