BEGIN:VCALENDAR
PRODID:-//eluceo/ical//2.0/EN
VERSION:2.0
CALSCALE:GREGORIAN
BEGIN:VEVENT
UID:d48fcb3294342079663d346272062264
DTSTAMP:20260421T081706Z
SUMMARY:PJ Goes to the Bagel Run for Sukkot
DESCRIPTION:Jewish Federation of Greater New Haven\nCommunity Calendar\nhtt
 ps://jewishnewhaven.org/eventlist/pj-goes-to-the-bagel-run-for-sukkot-3866
 22\n\n
DTSTART;TZID=America/New_York:20210919T080000
DTEND;TZID=America/New_York:20210919T110000
END:VEVENT
END:VCALENDAR
