BEGIN:VCALENDAR
PRODID:-//eluceo/ical//2.0/EN
VERSION:2.0
CALSCALE:GREGORIAN
BEGIN:VEVENT
UID:8fe79e7cf7f3e6a044d13b9684c23cad
DTSTAMP:20260419T190832Z
SUMMARY:8 PM PJ Library Parent Forum
DESCRIPTION:Jewish Federation of Greater New Haven\nCommunity Calendar\nhtt
 ps://jewishnewhaven.org/eventlist/pj-library-parent-forum-1593538276-35691
 6\n\nJoin us online  for an open discussion with PJ LIbrary's Stacey Batta
 t regarding  your concerns & vision for  family Jewish engagement in the y
 ear ahead\n\nJoin Zoom Meeting\nhttps://us02web.zoom.us/j/82974659782?pwd=
 dzVpTmdoNVNnOW40NDNNNzdSelBCdz09\n\nMeeting ID: 829 7465 9782\nPassword: 2
 46960\n\n
DTSTART;TZID=America/New_York:20200719T200000
DTEND;TZID=America/New_York:20200719T210000
END:VEVENT
END:VCALENDAR
