BEGIN:VCALENDAR
PRODID:-//eluceo/ical//2.0/EN
VERSION:2.0
CALSCALE:GREGORIAN
BEGIN:VEVENT
UID:95e7d13008ca68521b644f3e95045154
DTSTAMP:20260422T025236Z
SUMMARY:Protecting the FREEDOM TO READ
DESCRIPTION:Jewish Federation of Greater New Haven\nCommunity Calendar\nhtt
 ps://jewishnewhaven.org/eventlist/protecting-the-freedom-to-read-170679987
 7\n\nThe freedom to read is under attack in the United States\, restrictin
 g students’ freedom to explore words and ideas\, and creating a hostile 
 learning environment for young people whose identity is the subject of tar
 geted titles. Yet a 2023 NPR/Ipsos poll found that a majority of Americans
  oppose such measures. Join Pen America\, CT authors Chad Sell and Alan Ka
 tz\, & “The Book Lady” Pia Ledina for a timely discussion of the legal
  issues and learn how we can help protect the freedom to...
DTSTART;TZID=America/New_York:20240317T150000
DTEND;TZID=America/New_York:20240317T170000
END:VEVENT
END:VCALENDAR
