BEGIN:VCALENDAR
PRODID:-//eluceo/ical//2.0/EN
VERSION:2.0
CALSCALE:GREGORIAN
BEGIN:VEVENT
UID:55c2b8180d443033e7a02bb9cd8e1475
DTSTAMP:20260421T081609Z
SUMMARY:Rain Pryor's "Fried Chicken and Latkes"
DESCRIPTION:Jewish Federation of Greater New Haven\nCommunity Calendar\nhtt
 ps://jewishnewhaven.org/eventlist/rain-pryors-fried-chicken-and-latkes-120
 1-205501\n\nPlease welcome Rain Pryor\, award-winning actress\, playwright
 \, director and producer\, as she performs her autobiographical one-woman 
 show\, "Fried Chicken and Latkes"!\n\n"Fried Chicken and Latkes" portrays 
 Pryor's unique perspective of racism in the late 60's and early 70's based
  on her experiences growing up as a black\, Jewish female. This show has p
 layed to numerous sold out crowds\, and we now welcome Rain Pryor to the J
 CC!\n\nTime: Doors open at 7 p.m.\, Show at 8 p.m.\n\nTickets: $18 JCC.
 ..
DTSTART;TZID=America/New_York:20161201T190000
DTEND;TZID=America/New_York:20161201T210000
END:VEVENT
END:VCALENDAR
