BEGIN:VCALENDAR
PRODID:-//eluceo/ical//2.0/EN
VERSION:2.0
CALSCALE:GREGORIAN
BEGIN:VEVENT
UID:2600910f86865d96af8d6a2bce0a561e
DTSTAMP:20260420T010254Z
SUMMARY:Schmooze & Shabbat Services with Artist in Residence Rachel Haymer 
 @ CBJ
DESCRIPTION:Jewish Federation of Greater New Haven\nCommunity Calendar\nhtt
 ps://jewishnewhaven.org/eventlist/schmooze--shabbat-services-with-artist-i
 n-residence-rachel-haymer--cbj-1764602579\n\nJoin Congregation B’nai Jac
 ob for a special Friday night experience with Artist in Residence Rachel H
 aymer\, a soulful Jewish musician known for blending Hawaiian and Jewish m
 usical traditions. Rachel will help lead services alongside Cantor Kochava
  Munro\, Rabbi Rona Shapiro\, Rabbi Eric Woodward\, David Franklin\, Richa
 rd Katz\, and Andy Bedford. All are welcome for an inspiring musical Kabba
 lat Shabbat.
DTSTART;TZID=America/New_York:20251205T180000
DTEND;TZID=America/New_York:20251205T200000
END:VEVENT
END:VCALENDAR
