BEGIN:VCALENDAR
PRODID:-//eluceo/ical//2.0/EN
VERSION:2.0
CALSCALE:GREGORIAN
BEGIN:VEVENT
UID:3793c31f7c5692f81bdf44b77d22fd4e
DTSTAMP:20260421T123703Z
SUMMARY:Shabbat Across America
DESCRIPTION:Jewish Federation of Greater New Haven\nCommunity Calendar\nhtt
 ps://jewishnewhaven.org/eventlist/shabbat-across-america-1518554926-261972
 \n\nPlease join us for &quot\;A Taste of Kugel&quot\;. We will nibble on a
  variety of kugels as  Rabbi Wainhous explains their meaning and history. 
 Come\, taste and learn !! This event is free
DTSTART;TZID=America/New_York:20180309T190000
DTEND;TZID=America/New_York:20180309T210000
END:VEVENT
END:VCALENDAR
