BEGIN:VCALENDAR
PRODID:-//eluceo/ical//2.0/EN
VERSION:2.0
CALSCALE:GREGORIAN
BEGIN:VEVENT
UID:ebb680849873067007e418480c9aee42
DTSTAMP:20260421T123713Z
SUMMARY:Shabbat Across America at CBSRZ
DESCRIPTION:Jewish Federation of Greater New Haven\nCommunity Calendar\nhtt
 ps://jewishnewhaven.org/eventlist/shabbat-across-america-at-cbsrz-14873633
 39\n\nWhether you celebrate Shabbat regularly or want to learn how to enri
 ch your home Shabbat celebration\, all are invited to experience its joy a
 t CBSRZ on Friday\, March 3rd as we celebrate Shabbat Across America. Shab
 bat\, the weekly Jewish day of rest\, is when families gather together to 
 observe a traditional service and enjoy a festive meal.A wine and cheese r
 eception begins at 6:00 pm followed by a traditional family Shabbat dinner
  with side dishes contributed by congregation members and main ...
DTSTART;TZID=America/New_York:20170303T180000
DTEND;TZID=America/New_York:20170303T210000
END:VEVENT
END:VCALENDAR
