BEGIN:VCALENDAR
PRODID:-//eluceo/ical//2.0/EN
VERSION:2.0
CALSCALE:GREGORIAN
BEGIN:VEVENT
UID:04ddb95720e0130294768bf40e449b86
DTSTAMP:20260419T133647Z
SUMMARY:Shabbat on the Beach
DESCRIPTION:Jewish Federation of Greater New Haven\nCommunity Calendar\nhtt
 ps://jewishnewhaven.org/eventlist/shabbat-on-the-beach-1565722349-321876\n
 \nWhen: Friday August 16th\nWhere: Gulf Beach\, Milford\nTime:   7:00 pm S
 ervice \nDress:   Casual \nFood:   Feel free to bring a picnic at 6:00 pm 
 \nPlease bring a blanket or chair!    \nPlease bring a hat! (Yarmulkas fly
  away!) \nSponsored by the Men&#039\;s Club 
DTSTART;TZID=America/New_York:20190816T190000
DTEND;TZID=America/New_York:20190816T200000
END:VEVENT
END:VCALENDAR
