BEGIN:VCALENDAR
PRODID:-//eluceo/ical//2.0/EN
VERSION:2.0
CALSCALE:GREGORIAN
BEGIN:VEVENT
UID:1e63aa7f3d0f1a51a26afb8b1ec2dea1
DTSTAMP:20260420T074730Z
SUMMARY:Shir Hadash with Artist in Residence Rachel Haymer at CBJ
DESCRIPTION:Jewish Federation of Greater New Haven\nCommunity Calendar\nhtt
 ps://jewishnewhaven.org/eventlist/shir-hadash-with-artist-in-residence-rac
 hel-haymer-at-cbj-1764602657\n\nJoin us for a spirited Shir Hadash Shabbat
  morning service featuring Artist in Residence Rachel Haymer\, whose music
  brings warmth\, joy\, and connection to the community.
DTSTART;TZID=America/New_York:20251206T093000
DTEND;TZID=America/New_York:20251206T110000
END:VEVENT
END:VCALENDAR
